BEGIN:VCALENDAR
VERSION:2.0
PRODID:icalendar-ruby
CALSCALE:GREGORIAN
METHOD:PUBLISH
BEGIN:VEVENT
DTSTAMP:20260421T131335Z
UID:34-220235@connect2pbc.com
DTSTART:20260503T123000Z
DTEND:20260503T133000Z
CLASS:PUBLIC
CREATED:20260417T100958
DESCRIPTION:Join the PBC Men's Ministry during their monthly Bible Study!\n
 All men are invited to attend!
LAST-MODIFIED:20260417T100958
LOCATION:PBC Fellowship Hall
SUMMARY:Men's Ministry Bible Study
URL;VALUE=URI:https://connect2pbc.com/events/mens-ministry-bible-study/2026
 -05-03
ATTACH;FILENAME=Mens-Ministry.jpg;FMTTYPE=image/jpeg:https://dq5pwpg1q8ru0.
 cloudfront.net/2026/03/28/17/58/02/01533241-6f2d-4bbb-a93b-d30db6b3fd80/Me
 ns-Ministry.jpg
END:VEVENT
END:VCALENDAR
