BEGIN:VCALENDAR
VERSION:2.0
PRODID:icalendar-ruby
CALSCALE:GREGORIAN
METHOD:PUBLISH
BEGIN:VEVENT
DTSTAMP:20260421T131312Z
UID:39-220227@connect2pbc.com
DTSTART:20260501T130000Z
DTEND:20260501T200000Z
CLASS:PUBLIC
CREATED:20260417T100134
DESCRIPTION:Remember When?\nLeaving the church at 9 AM!\nAll senior adults 
 are invited to attend.\nSee Karen Watkins for more information!
LAST-MODIFIED:20260417T100134
LOCATION:Lunch at Parker's BBQ in Wilson
SUMMARY:LLL's Outing
URL;VALUE=URI:https://connect2pbc.com/events/llls-outing/2026-05-01
ATTACH;FILENAME=Atkinson-Logo.png;FMTTYPE=image/png:https://dq5pwpg1q8ru0.c
 loudfront.net/2026/04/17/13/52/11/1d687919-980a-45b4-ab69-1bc4702c692d/Atk
 inson-Logo.png
END:VEVENT
END:VCALENDAR
